BEGIN:VCALENDAR
VERSION:2.0
PRODID:-//PAIL Network - ECPv6.15.11//NONSGML v1.0//EN
CALSCALE:GREGORIAN
METHOD:PUBLISH
X-WR-CALNAME:PAIL Network
X-ORIGINAL-URL:https://pailnetwork.sunnybrook.ca
X-WR-CALDESC:Events for PAIL Network
REFRESH-INTERVAL;VALUE=DURATION:PT1H
X-Robots-Tag:noindex
X-PUBLISHED-TTL:PT1H
BEGIN:VTIMEZONE
TZID:America/Toronto
BEGIN:DAYLIGHT
TZOFFSETFROM:-0500
TZOFFSETTO:-0400
TZNAME:EDT
DTSTART:20250309T070000
END:DAYLIGHT
BEGIN:STANDARD
TZOFFSETFROM:-0400
TZOFFSETTO:-0500
TZNAME:EST
DTSTART:20251102T060000
END:STANDARD
BEGIN:DAYLIGHT
TZOFFSETFROM:-0500
TZOFFSETTO:-0400
TZNAME:EDT
DTSTART:20260308T070000
END:DAYLIGHT
BEGIN:STANDARD
TZOFFSETFROM:-0400
TZOFFSETTO:-0500
TZNAME:EST
DTSTART:20261101T060000
END:STANDARD
BEGIN:DAYLIGHT
TZOFFSETFROM:-0500
TZOFFSETTO:-0400
TZNAME:EDT
DTSTART:20270314T070000
END:DAYLIGHT
BEGIN:STANDARD
TZOFFSETFROM:-0400
TZOFFSETTO:-0500
TZNAME:EST
DTSTART:20271107T060000
END:STANDARD
END:VTIMEZONE
BEGIN:VEVENT
DTSTART;TZID=America/Toronto:20260911T083000
DTEND;TZID=America/Toronto:20260911T160000
DTSTAMP:20260421T083412
CREATED:20260418T130339Z
LAST-MODIFIED:20260418T130339Z
UID:10007021-1789115400-1789142400@pailnetwork.sunnybrook.ca
SUMMARY:VIRTUAL PAIL Network Compassionate Care Workshop
DESCRIPTION:REGISTER HERE \nPassword: PAILCCW \nThe deadline to register is September 4\, 2026. Space is limited. \nThis workshop will be hosted on the Zoom platform. \nPregnancy and Infant Loss (PAIL) Network Virtual Compassionate Care Workshop \nJoin us for a FREE one day workshop focused around providing compassionate care to bereaved parents during the loss of their pregnancy or death of their infant. \nThis educational session covers many topics\, including; attachment\, statistics\, grief\, loss experience (miscarriage\, stillbirth\, infant death\, loss of a multiple)\, memory making\, what to say/what not to say\, pregnancy after loss\, and caring for the caregiver. We also invite a panel of family members to answer questions about their lived experience with early pregnancy loss\, and what it means to receive compassionate care. Participants leave with ideas for providing compassionate supports and resources\, as well as practical skills\, tools\, and techniques to provide skilled care to grieving parents and families. \nPlease Note: \n\nPregnancy and Infant Loss Network offers FREE Compassionate Care Workshops to health and service professionals who are either employed by a government funded organization or who are members of a licensed\, regulated profession in Ontario (or students of these professions). Registering for this event confirms that you understand and meet these requirements. PAIL Network may cancel registration for those who do not meet these requirements.\nThe workshop will be presented over Zoom\, and you will be expected to join from a computer/device with both video and audio capabilities. We would appreciate you having your video on for the workshop\, and being prepared to participate in discussion. If you do not have a computer/device with these requirements\, please indicate this during registration.\nEach attendee must register separately. Confirmations and updates are automated by the event management system\, Eventbrite.\nIn an effort to maintain a safe environment for family panelists\, educators\, and participants with a lived experience of loss\, we ask that anyone joining from home mute their video and audio if any babies will be in camera view.\n\nIf you have any additional questions about this workshop\, please email paileducation@sunnybrook.ca \nThank you!
URL:https://pailnetwork.sunnybrook.ca/event/virtual-pail-network-compassionate-care-workshop/
CATEGORIES:Compassionate Care Workshops,Events Calendar
END:VEVENT
END:VCALENDAR